BEGIN:VCALENDAR
VERSION:2.0
PRODID:-//Plone.org//NONSGML plone.app.event//EN
X-WR-TIMEZONE:Asia/Shanghai
BEGIN:VEVENT
SUMMARY:2020金融科技大会
DTSTART;TZID=Asia/Shanghai;VALUE=DATE-TIME:20201209T090000
DTEND;TZID=Asia/Shanghai;VALUE=DATE-TIME:20201209T163000
DTSTAMP;VALUE=DATE-TIME:20260421T145943Z
UID:e9b8e53ba7f641cfb25b8353d7759a05@yecloud.net
CREATED;VALUE=DATE-TIME:20201208T234801Z
LAST-MODIFIED;VALUE=DATE-TIME:20201208T234802Z
URL:http://yecloud.net/ecloud/events/202091d1878d79d1628059274f1a
END:VEVENT
BEGIN:VTIMEZONE
TZID:Asia/Shanghai
X-LIC-LOCATION:Asia/Shanghai
BEGIN:STANDARD
DTSTART;VALUE=DATE-TIME:19910915T010000
TZNAME:CST
TZOFFSETFROM:+0900
TZOFFSETTO:+0800
END:STANDARD
END:VTIMEZONE
END:VCALENDAR
